BEGIN:VCALENDAR
VERSION:2.0
PRODID:-//Tina Panther Art - ECPv6.15.20//NONSGML v1.0//EN
CALSCALE:GREGORIAN
METHOD:PUBLISH
X-ORIGINAL-URL:https://tinapantherart.de
X-WR-CALDESC:Veranstaltungen für Tina Panther Art
REFRESH-INTERVAL;VALUE=DURATION:PT1H
X-Robots-Tag:noindex
X-PUBLISHED-TTL:PT1H
BEGIN:VTIMEZONE
TZID:UTC
BEGIN:STANDARD
TZOFFSETFROM:+0000
TZOFFSETTO:+0000
TZNAME:UTC
DTSTART:20230101T000000
END:STANDARD
END:VTIMEZONE
BEGIN:VTIMEZONE
TZID:Europe/Helsinki
BEGIN:DAYLIGHT
TZOFFSETFROM:+0200
TZOFFSETTO:+0300
TZNAME:EEST
DTSTART:20230326T010000
END:DAYLIGHT
BEGIN:STANDARD
TZOFFSETFROM:+0300
TZOFFSETTO:+0200
TZNAME:EET
DTSTART:20231029T010000
END:STANDARD
BEGIN:DAYLIGHT
TZOFFSETFROM:+0200
TZOFFSETTO:+0300
TZNAME:EEST
DTSTART:20240331T010000
END:DAYLIGHT
BEGIN:STANDARD
TZOFFSETFROM:+0300
TZOFFSETTO:+0200
TZNAME:EET
DTSTART:20241027T010000
END:STANDARD
BEGIN:DAYLIGHT
TZOFFSETFROM:+0200
TZOFFSETTO:+0300
TZNAME:EEST
DTSTART:20250330T010000
END:DAYLIGHT
BEGIN:STANDARD
TZOFFSETFROM:+0300
TZOFFSETTO:+0200
TZNAME:EET
DTSTART:20251026T010000
END:STANDARD
END:VTIMEZONE
BEGIN:VEVENT
DTSTART;TZID=UTC:20240914T100000
DTEND;TZID=UTC:20240915T160000
DTSTAMP:20260419T141721
CREATED:20240515T184133Z
LAST-MODIFIED:20240515T191840Z
UID:234-1726308000-1726416000@tinapantherart.de
SUMMARY:Toyplosion Volume 2
DESCRIPTION:Liebe (Sammler-)Freunde\, \nnach dem riesigen Erfolg der ersten TOYPLOSION wird nun vom 14-15. September 2024 die TOYPLOSION 2 stattfinden. An gleich zwei Tagen könnt ihr in der Europahalle Castrop-Rauxel auf über 1800 qm eine Vintage Toyshow der Extraklasse mit all den wunderbaren Toylines aus eurer Kindheit sowie weitere tolle Aussteller und eine Live-Auktion erleben. \n  \nWird Delorean wieder dabei mit Zurück in die Zukunft Ausstellung!
URL:https://tinapantherart.de/event/toyplosion-volume-2/
LOCATION:Europahalle Castrop-Rauxel\, Europaplatz 6\, Castrop-Rauxel\, NRW\, 44575\, Deutschland
ATTACH;FMTTYPE=image/jpeg:https://tinapantherart.de/wp-content/uploads/2024/05/379456539_288177327304938_1794732452488208419_n.jpg
END:VEVENT
BEGIN:VEVENT
DTSTART;TZID=Europe/Helsinki:20240601T090000
DTEND;TZID=Europe/Helsinki:20240601T170000
DTSTAMP:20260419T141721
CREATED:20240514T204032Z
LAST-MODIFIED:20240515T183239Z
UID:209-1717232400-1717261200@tinapantherart.de
SUMMARY:Altes Handwerk und neue Helden - Volume 2
DESCRIPTION:  \nAm Samstag 01.06.24 geht das Cosplay Event altes Handwerk und neue Helden in die zweite Runde. wieder dürfen wir zu Gast sein im fantastischen LWL-FREILICHTMUSEUM Hagen und entführen die Besucher in ferne Welten der Science Fiction von den 1970ern bis Heute.\nvon Star Wars über Star Trek bis hin zu den Ghostbusters und Halo ist alles vertreten.\nUnd das beste daran ist das wir zu einem mit dem Event wieder die Deutschen Kinderhospiz Dienste unterstützen können und zum anderen bleiben die Eintrittspreise des Museums unverändert. Also Erwachsene zahlen 8€ Eintritt und Kids bis einschließlich 17 Jahren sind frei!\nwir sehen uns im Freilichtmuseum\n\nMit auch dabei: Delorean und Zurück in die Zukunft Ausstellung von mir
URL:https://tinapantherart.de/event/altes-handwerk-und-neue-helden-volume-2/
LOCATION:LWL-Freilichtmuseum Hagen\, Mäckingerbach\,\, Hagen\, NRW\, 58091\, Deutschland
ATTACH;FMTTYPE=image/jpeg:https://tinapantherart.de/wp-content/uploads/2024/05/375146426_280584114763134_1775905145748531434_n.jpg
END:VEVENT
END:VCALENDAR